Package: standR Version: 1.10.0 Command: /Library/Frameworks/R.framework/Resources/bin/R CMD check --install=check:standR.install-out.txt --library=/Library/Frameworks/R.framework/Resources/library --no-vignettes --timings standR_1.10.0.tar.gz StartedAt: 2025-01-29 10:47:41 -0500 (Wed, 29 Jan 2025) EndedAt: 2025-01-29 10:53:09 -0500 (Wed, 29 Jan 2025) EllapsedTime: 328.0 seconds RetCode: 0 Status: OK CheckDir: standR.Rcheck Warnings: 0