Package: staRank Version: 1.48.0 Command: /Library/Frameworks/R.framework/Resources/bin/R CMD build --keep-empty-dirs --no-resave-data staRank StartedAt: 2025-01-28 08:59:51 -0500 (Tue, 28 Jan 2025) EndedAt: 2025-01-28 08:59:52 -0500 (Tue, 28 Jan 2025) EllapsedTime: 1.2 seconds RetCode: 1 Status: ERROR PackageFile: None PackageFileSize: NA