Package: stJoincount Version: 1.8.0 Command: /home/biocbuild/bbs-3.20-bioc/R/bin/R CMD check --install=check:stJoincount.install-out.txt --library=/home/biocbuild/bbs-3.20-bioc/R/site-library --timings stJoincount_1.8.0.tar.gz StartedAt: 2024-11-20 10:23:00 -0500 (Wed, 20 Nov 2024) EndedAt: 2024-11-20 10:28:15 -0500 (Wed, 20 Nov 2024) EllapsedTime: 315.5 seconds RetCode: 0 Status: OK CheckDir: stJoincount.Rcheck Warnings: 0