Package: stJoincount Version: 1.8.0 Command: F:\biocbuild\bbs-3.20-bioc\R\bin\R.exe CMD INSTALL stJoincount StartedAt: 2025-01-27 16:39:17 -0500 (Mon, 27 Jan 2025) EndedAt: 2025-01-27 16:40:35 -0500 (Mon, 27 Jan 2025) EllapsedTime: 77.8 seconds RetCode: 0 Status: OK