Package: stJoincount Version: 1.8.0 Command: /Library/Frameworks/R.framework/Resources/bin/R CMD build --keep-empty-dirs --no-resave-data stJoincount StartedAt: 2025-01-27 22:59:28 -0500 (Mon, 27 Jan 2025) EndedAt: 2025-01-27 23:02:25 -0500 (Mon, 27 Jan 2025) EllapsedTime: 177.2 seconds RetCode: 0 Status: OK PackageFile: stJoincount_1.8.0.tar.gz PackageFileSize: 2.672 MiB