Package: stJoincount Version: 1.8.0 Command: /Library/Frameworks/R.framework/Resources/bin/R CMD INSTALL stJoincount StartedAt: 2025-02-03 17:15:42 -0500 (Mon, 03 Feb 2025) EndedAt: 2025-02-03 17:16:45 -0500 (Mon, 03 Feb 2025) EllapsedTime: 62.4 seconds RetCode: 0 Status: OK