Package: stJoincount Version: 1.8.0 Command: /Library/Frameworks/R.framework/Resources/bin/R CMD check --install=check:stJoincount.install-out.txt --library=/Library/Frameworks/R.framework/Resources/library --no-vignettes --timings stJoincount_1.8.0.tar.gz StartedAt: 2025-02-01 11:05:43 -0500 (Sat, 01 Feb 2025) EndedAt: 2025-02-01 11:13:30 -0500 (Sat, 01 Feb 2025) EllapsedTime: 466.9 seconds RetCode: 0 Status: OK CheckDir: stJoincount.Rcheck Warnings: 0