Package: stJoincount Version: 1.8.0 Command: rm -rf stJoincount.buildbin-libdir && mkdir stJoincount.buildbin-libdir && /Users/biocbuild/BBS/utils/build-universal.sh stJoincount_1.8.0.tar.gz /Library/Frameworks/R.framework/Resources/bin/R stJoincount.buildbin-libdir StartedAt: 2025-02-01 17:05:50 -0500 (Sat, 01 Feb 2025) EndedAt: 2025-02-01 17:06:59 -0500 (Sat, 01 Feb 2025) EllapsedTime: 69.3 seconds RetCode: 0 Status: OK PackageFile: stJoincount_1.8.0.tgz PackageFileSize: 2.702 MiB