Package: ssviz Version: 1.40.0 Command: /home/biocbuild/R/R/bin/R CMD build --keep-empty-dirs --no-resave-data ssviz StartedAt: 2025-01-28 03:39:11 -0000 (Tue, 28 Jan 2025) EndedAt: 2025-01-28 03:39:39 -0000 (Tue, 28 Jan 2025) EllapsedTime: 28.0 seconds RetCode: 0 Status: OK PackageFile: ssviz_1.40.0.tar.gz PackageFileSize: 1.146 MiB