Package: ssviz Version: 1.40.0 Command: /Library/Frameworks/R.framework/Resources/bin/R CMD INSTALL ssviz StartedAt: 2025-03-31 15:34:10 -0400 (Mon, 31 Mar 2025) EndedAt: 2025-03-31 15:34:39 -0400 (Mon, 31 Mar 2025) EllapsedTime: 29.7 seconds RetCode: 0 Status: OK