Package: ssrch Version: 1.22.0 Command: F:\biocbuild\bbs-3.20-bioc\R\bin\R.exe CMD INSTALL ssrch StartedAt: 2025-03-31 15:46:39 -0400 (Mon, 31 Mar 2025) EndedAt: 2025-03-31 15:46:57 -0400 (Mon, 31 Mar 2025) EllapsedTime: 18.3 seconds RetCode: 0 Status: OK