Package: ssrch Version: 1.22.0 Command: rm -rf ssrch.buildbin-libdir && mkdir ssrch.buildbin-libdir && /Users/biocbuild/BBS/utils/build-universal.sh ssrch_1.22.0.tar.gz /Library/Frameworks/R.framework/Resources/bin/R ssrch.buildbin-libdir StartedAt: 2025-02-05 18:00:21 -0500 (Wed, 05 Feb 2025) EndedAt: 2025-02-05 18:00:28 -0500 (Wed, 05 Feb 2025) EllapsedTime: 6.5 seconds RetCode: 0 Status: OK PackageFile: ssrch_1.22.0.tgz PackageFileSize: 1.393 MiB