Package: ssize Version: 1.80.0 Command: /home/biocbuild/bbs-3.20-bioc/R/bin/R CMD INSTALL ssize StartedAt: 2025-01-27 15:56:58 -0500 (Mon, 27 Jan 2025) EndedAt: 2025-01-27 15:57:12 -0500 (Mon, 27 Jan 2025) EllapsedTime: 13.7 seconds RetCode: 0 Status: OK