Package: ssize Version: 1.80.0 Command: /Library/Frameworks/R.framework/Resources/bin/R CMD check --install=check:ssize.install-out.txt --library=/Library/Frameworks/R.framework/Resources/library --no-vignettes --timings ssize_1.80.0.tar.gz StartedAt: 2025-02-01 10:56:52 -0500 (Sat, 01 Feb 2025) EndedAt: 2025-02-01 10:57:20 -0500 (Sat, 01 Feb 2025) EllapsedTime: 28.4 seconds RetCode: 0 Status: OK CheckDir: ssize.Rcheck Warnings: 0