Package: sscu Version: 2.36.0 Command: /Library/Frameworks/R.framework/Resources/bin/R CMD build --keep-empty-dirs --no-resave-data sscu StartedAt: 2025-02-04 09:10:45 -0500 (Tue, 04 Feb 2025) EndedAt: 2025-02-04 09:11:07 -0500 (Tue, 04 Feb 2025) EllapsedTime: 22.4 seconds RetCode: 0 Status: OK PackageFile: sscu_2.36.0.tar.gz PackageFileSize: 1.287 MiB