Package: ssPATHS Version: 1.20.0 Command: /home/biocbuild/R/R/bin/R CMD build --keep-empty-dirs --no-resave-data ssPATHS StartedAt: 2025-01-31 03:00:13 -0000 (Fri, 31 Jan 2025) EndedAt: 2025-01-31 03:00:54 -0000 (Fri, 31 Jan 2025) EllapsedTime: 41.1 seconds RetCode: 0 Status: OK PackageFile: ssPATHS_1.20.0.tar.gz PackageFileSize: 3.668 MiB