Package: ssPATHS Version: 1.20.0 Command: /home/biocbuild/bbs-3.20-bioc/R/bin/R CMD INSTALL ssPATHS StartedAt: 2025-01-30 15:49:33 -0500 (Thu, 30 Jan 2025) EndedAt: 2025-01-30 15:50:02 -0500 (Thu, 30 Jan 2025) EllapsedTime: 29.1 seconds RetCode: 0 Status: OK