Package: ssPATHS Version: 1.20.0 Command: /Library/Frameworks/R.framework/Resources/bin/R CMD check --install=check:ssPATHS.install-out.txt --library=/Library/Frameworks/R.framework/Resources/library --no-vignettes --timings ssPATHS_1.20.0.tar.gz StartedAt: 2025-04-01 09:52:10 -0400 (Tue, 01 Apr 2025) EndedAt: 2025-04-01 09:57:57 -0400 (Tue, 01 Apr 2025) EllapsedTime: 347.5 seconds RetCode: 0 Status: OK CheckDir: ssPATHS.Rcheck Warnings: 0