Package: ssPATHS Version: 1.20.0 Command: /Library/Frameworks/R.framework/Resources/bin/R CMD INSTALL ssPATHS StartedAt: 2025-03-31 17:32:50 -0400 (Mon, 31 Mar 2025) EndedAt: 2025-03-31 17:33:17 -0400 (Mon, 31 Mar 2025) EllapsedTime: 26.3 seconds RetCode: 0 Status: OK