Package: srnadiff Version: 1.26.0 Command: /Library/Frameworks/R.framework/Resources/bin/R CMD check --install=check:srnadiff.install-out.txt --library=/Library/Frameworks/R.framework/Resources/library --no-vignettes --timings srnadiff_1.26.0.tar.gz StartedAt: 2025-04-01 09:49:04 -0400 (Tue, 01 Apr 2025) EndedAt: 2025-04-01 10:29:05 -0400 (Tue, 01 Apr 2025) EllapsedTime: 2401.0 seconds RetCode: None Status: TIMEOUT CheckDir: srnadiff.Rcheck Warnings: NA