Package: srnadiff Version: 1.26.0 Command: /Library/Frameworks/R.framework/Resources/bin/R CMD build --keep-empty-dirs --no-resave-data srnadiff StartedAt: 2025-03-31 22:22:23 -0400 (Mon, 31 Mar 2025) EndedAt: 2025-03-31 22:29:13 -0400 (Mon, 31 Mar 2025) EllapsedTime: 410.2 seconds RetCode: 0 Status: OK PackageFile: srnadiff_1.26.0.tar.gz PackageFileSize: 2.426 MiB