Package: squallms Version: 1.0.0 Command: /Library/Frameworks/R.framework/Resources/bin/R CMD INSTALL squallms StartedAt: 2025-03-31 17:37:20 -0400 (Mon, 31 Mar 2025) EndedAt: 2025-03-31 17:38:11 -0400 (Mon, 31 Mar 2025) EllapsedTime: 50.4 seconds RetCode: 0 Status: OK