Package: squallms Version: 1.0.0 Command: /Library/Frameworks/R.framework/Resources/bin/R CMD check --install=check:squallms.install-out.txt --library=/Library/Frameworks/R.framework/Resources/library --no-vignettes --timings squallms_1.0.0.tar.gz StartedAt: 2025-01-29 10:37:55 -0500 (Wed, 29 Jan 2025) EndedAt: 2025-01-29 10:47:39 -0500 (Wed, 29 Jan 2025) EllapsedTime: 584.2 seconds RetCode: 0 Status: OK CheckDir: squallms.Rcheck Warnings: 0