Package: squallms Version: 1.0.0 Command: /Library/Frameworks/R.framework/Resources/bin/R CMD build --keep-empty-dirs --no-resave-data squallms StartedAt: 2025-01-28 08:56:11 -0500 (Tue, 28 Jan 2025) EndedAt: 2025-01-28 08:58:03 -0500 (Tue, 28 Jan 2025) EllapsedTime: 111.7 seconds RetCode: 0 Status: OK PackageFile: squallms_1.0.0.tar.gz PackageFileSize: 2.288 MiB