Package: spqn Version: 1.18.0 Command: /home/biocbuild/R/R/bin/R CMD build --keep-empty-dirs --no-resave-data spqn StartedAt: 2025-01-28 03:36:40 -0000 (Tue, 28 Jan 2025) EndedAt: 2025-01-28 03:42:33 -0000 (Tue, 28 Jan 2025) EllapsedTime: 353.1 seconds RetCode: 0 Status: OK PackageFile: spqn_1.18.0.tar.gz PackageFileSize: 2.468 MiB