Package: spqn Version: 1.18.0 Command: F:\biocbuild\bbs-3.20-bioc\R\bin\R.exe CMD INSTALL spqn StartedAt: 2025-03-31 16:07:40 -0400 (Mon, 31 Mar 2025) EndedAt: 2025-03-31 16:08:08 -0400 (Mon, 31 Mar 2025) EllapsedTime: 27.2 seconds RetCode: 0 Status: OK