Package: spqn Version: 1.18.0 Command: F:\biocbuild\bbs-3.20-bioc\R\bin\R.exe CMD check --no-multiarch --install=check:spqn.install-out.txt --library=F:\biocbuild\bbs-3.20-bioc\R\library --no-vignettes --timings spqn_1.18.0.tar.gz StartedAt: 2025-01-28 06:22:32 -0500 (Tue, 28 Jan 2025) EndedAt: 2025-01-28 06:26:45 -0500 (Tue, 28 Jan 2025) EllapsedTime: 252.2 seconds RetCode: 0 Status: OK CheckDir: spqn.Rcheck Warnings: 0