Package: spqn Version: 1.18.0 Command: /home/biocbuild/R/R/bin/R CMD check --install=check:spqn.install-out.txt --library=/home/biocbuild/R/R/site-library --no-vignettes --timings spqn_1.18.0.tar.gz StartedAt: 2024-11-20 12:53:02 -0000 (Wed, 20 Nov 2024) EndedAt: 2024-11-20 13:22:21 -0000 (Wed, 20 Nov 2024) EllapsedTime: 1759.1 seconds RetCode: 0 Status: OK CheckDir: spqn.Rcheck Warnings: 0