Package: splineTimeR Version: 1.34.0 Command: F:\biocbuild\bbs-3.20-bioc\R\bin\R.exe CMD INSTALL splineTimeR StartedAt: 2025-01-30 15:45:35 -0500 (Thu, 30 Jan 2025) EndedAt: 2025-01-30 15:45:58 -0500 (Thu, 30 Jan 2025) EllapsedTime: 23.5 seconds RetCode: 0 Status: OK