Package: splineTimeR Version: 1.34.0 Command: rm -rf splineTimeR.buildbin-libdir && mkdir splineTimeR.buildbin-libdir && F:\biocbuild\bbs-3.20-bioc\R\bin\R.exe CMD INSTALL --build --library=splineTimeR.buildbin-libdir splineTimeR_1.34.0.tar.gz StartedAt: 2025-01-31 09:42:35 -0500 (Fri, 31 Jan 2025) EndedAt: 2025-01-31 09:42:55 -0500 (Fri, 31 Jan 2025) EllapsedTime: 20.1 seconds RetCode: 0 Status: OK PackageFile: splineTimeR_1.34.0.zip PackageFileSize: 1.149 MiB