Package: splineTimeR Version: 1.34.0 Command: /Library/Frameworks/R.framework/Resources/bin/R CMD check --install=check:splineTimeR.install-out.txt --library=/Library/Frameworks/R.framework/Resources/library --no-vignettes --timings splineTimeR_1.34.0.tar.gz StartedAt: 2025-01-28 10:49:50 -0500 (Tue, 28 Jan 2025) EndedAt: 2025-01-28 10:54:50 -0500 (Tue, 28 Jan 2025) EllapsedTime: 299.4 seconds RetCode: 0 Status: OK CheckDir: splineTimeR.Rcheck Warnings: 0