Package: splineTimeR Version: 1.34.0 Command: rm -rf splineTimeR.buildbin-libdir && mkdir splineTimeR.buildbin-libdir && /Users/biocbuild/BBS/utils/build-universal.sh splineTimeR_1.34.0.tar.gz /Library/Frameworks/R.framework/Resources/bin/R splineTimeR.buildbin-libdir StartedAt: 2025-04-02 16:29:40 -0400 (Wed, 02 Apr 2025) EndedAt: 2025-04-02 16:30:00 -0400 (Wed, 02 Apr 2025) EllapsedTime: 20.3 seconds RetCode: 0 Status: OK PackageFile: splineTimeR_1.34.0.tgz PackageFileSize: 1.268 MiB