Package: splatter Version: 1.30.0 Command: /home/biocbuild/R/R/bin/R CMD INSTALL splatter StartedAt: 2025-01-27 21:46:54 -0000 (Mon, 27 Jan 2025) EndedAt: 2025-01-27 21:47:31 -0000 (Mon, 27 Jan 2025) EllapsedTime: 37.2 seconds RetCode: 0 Status: OK