Package: spkTools Version: 1.62.0 Command: /home/biocbuild/R/R/bin/R CMD INSTALL spkTools StartedAt: 2025-01-30 20:07:05 -0000 (Thu, 30 Jan 2025) EndedAt: 2025-01-30 20:07:38 -0000 (Thu, 30 Jan 2025) EllapsedTime: 32.4 seconds RetCode: 0 Status: OK