Package: spkTools Version: 1.62.0 Command: /home/biocbuild/R/R/bin/R CMD build --keep-empty-dirs --no-resave-data spkTools StartedAt: 2025-01-31 02:55:53 -0000 (Fri, 31 Jan 2025) EndedAt: 2025-01-31 02:56:06 -0000 (Fri, 31 Jan 2025) EllapsedTime: 13.0 seconds RetCode: 0 Status: OK PackageFile: spkTools_1.62.0.tar.gz PackageFileSize: 652.7 KiB