Package: spkTools Version: 1.62.0 Command: F:\biocbuild\bbs-3.20-bioc\R\bin\R.exe CMD INSTALL spkTools StartedAt: 2025-01-27 15:32:24 -0500 (Mon, 27 Jan 2025) EndedAt: 2025-01-27 15:32:48 -0500 (Mon, 27 Jan 2025) EllapsedTime: 24.7 seconds RetCode: 0 Status: OK