Package: spkTools Version: 1.62.0 Command: rm -rf spkTools.buildbin-libdir && mkdir spkTools.buildbin-libdir && F:\biocbuild\bbs-3.20-bioc\R\bin\R.exe CMD INSTALL --build --library=spkTools.buildbin-libdir spkTools_1.62.0.tar.gz StartedAt: 2025-01-28 09:14:20 -0500 (Tue, 28 Jan 2025) EndedAt: 2025-01-28 09:14:40 -0500 (Tue, 28 Jan 2025) EllapsedTime: 20.0 seconds RetCode: 0 Status: OK PackageFile: spkTools_1.62.0.zip PackageFileSize: 719.9 KiB