Package: spkTools Version: 1.62.0 Command: /Library/Frameworks/R.framework/Resources/bin/R CMD INSTALL spkTools StartedAt: 2025-01-30 15:06:38 -0500 (Thu, 30 Jan 2025) EndedAt: 2025-01-30 15:06:44 -0500 (Thu, 30 Jan 2025) EllapsedTime: 5.6 seconds RetCode: 0 Status: OK