Package: spillR Version: 1.2.0 Command: /home/biocbuild/R/R/bin/R CMD build --keep-empty-dirs --no-resave-data spillR StartedAt: 2025-02-11 02:49:33 -0000 (Tue, 11 Feb 2025) EndedAt: 2025-02-11 02:52:28 -0000 (Tue, 11 Feb 2025) EllapsedTime: 175.1 seconds RetCode: 0 Status: OK PackageFile: spillR_1.2.0.tar.gz PackageFileSize: 346.8 KiB