Package: spiky Version: 1.12.0 Command: /Library/Frameworks/R.framework/Resources/bin/R CMD INSTALL spiky StartedAt: 2025-01-27 17:19:51 -0500 (Mon, 27 Jan 2025) EndedAt: 2025-01-27 17:20:40 -0500 (Mon, 27 Jan 2025) EllapsedTime: 49.3 seconds RetCode: 0 Status: OK