Package: spicyR Version: 1.18.1 Command: rm -rf spicyR.buildbin-libdir && mkdir spicyR.buildbin-libdir && /Users/biocbuild/BBS/utils/build-universal.sh spicyR_1.18.1.tar.gz /Library/Frameworks/R.framework/Resources/bin/R spicyR.buildbin-libdir StartedAt: 2025-04-02 16:28:51 -0400 (Wed, 02 Apr 2025) EndedAt: 2025-04-02 16:29:40 -0400 (Wed, 02 Apr 2025) EllapsedTime: 48.9 seconds RetCode: 0 Status: OK PackageFile: spicyR_1.18.1.tgz PackageFileSize: 3.839 MiB