Package: speckle Version: 1.6.0 Command: rm -rf speckle.buildbin-libdir && mkdir speckle.buildbin-libdir && /Users/biocbuild/BBS/utils/build-universal.sh speckle_1.6.0.tar.gz /Library/Frameworks/R.framework/Resources/bin/R speckle.buildbin-libdir StartedAt: 2025-02-01 17:01:22 -0500 (Sat, 01 Feb 2025) EndedAt: 2025-02-01 17:02:09 -0500 (Sat, 01 Feb 2025) EllapsedTime: 46.6 seconds RetCode: 0 Status: OK PackageFile: speckle_1.6.0.tgz PackageFileSize: 1.496 MiB