Package: specL Version: 1.40.0 Command: /home/biocbuild/R/R/bin/R CMD INSTALL specL StartedAt: 2025-03-31 20:25:00 -0000 (Mon, 31 Mar 2025) EndedAt: 2025-03-31 20:25:07 -0000 (Mon, 31 Mar 2025) EllapsedTime: 7.2 seconds RetCode: 0 Status: OK