Package: specL Version: 1.40.0 Command: F:\biocbuild\bbs-3.20-bioc\R\bin\R.exe CMD INSTALL specL StartedAt: 2025-02-03 15:46:55 -0500 (Mon, 03 Feb 2025) EndedAt: 2025-02-03 15:47:19 -0500 (Mon, 03 Feb 2025) EllapsedTime: 23.8 seconds RetCode: 0 Status: OK