Package: specL Version: 1.40.0 Command: /Library/Frameworks/R.framework/Resources/bin/R CMD check --install=check:specL.install-out.txt --library=/Library/Frameworks/R.framework/Resources/library --no-vignettes --timings specL_1.40.0.tar.gz StartedAt: 2025-01-28 10:42:26 -0500 (Tue, 28 Jan 2025) EndedAt: 2025-01-28 10:44:06 -0500 (Tue, 28 Jan 2025) EllapsedTime: 100.3 seconds RetCode: 0 Status: OK CheckDir: specL.Rcheck Warnings: 0