Package: specL Version: 1.40.0 Command: /Library/Frameworks/R.framework/Resources/bin/R CMD INSTALL specL StartedAt: 2024-11-19 15:12:34 -0500 (Tue, 19 Nov 2024) EndedAt: 2024-11-19 15:12:44 -0500 (Tue, 19 Nov 2024) EllapsedTime: 9.8 seconds RetCode: 0 Status: OK