Package: specL Version: 1.40.0 Command: /Library/Frameworks/R.framework/Resources/bin/R CMD INSTALL specL StartedAt: 2025-01-27 15:41:03 -0500 (Mon, 27 Jan 2025) EndedAt: 2025-01-27 15:41:11 -0500 (Mon, 27 Jan 2025) EllapsedTime: 7.3 seconds RetCode: 0 Status: OK