Package: spatialSimGP Version: 1.0.0 Command: rm -rf spatialSimGP.buildbin-libdir && mkdir spatialSimGP.buildbin-libdir && F:\biocbuild\bbs-3.20-bioc\R\bin\R.exe CMD INSTALL --build --library=spatialSimGP.buildbin-libdir spatialSimGP_1.0.0.tar.gz StartedAt: 2025-01-28 09:13:32 -0500 (Tue, 28 Jan 2025) EndedAt: 2025-01-28 09:13:58 -0500 (Tue, 28 Jan 2025) EllapsedTime: 25.3 seconds RetCode: 0 Status: OK PackageFile: spatialSimGP_1.0.0.zip PackageFileSize: 374.7 KiB