Package: spatialSimGP Version: 1.0.0 Command: /Library/Frameworks/R.framework/Resources/bin/R CMD build --keep-empty-dirs --no-resave-data spatialSimGP StartedAt: 2025-01-27 22:49:20 -0500 (Mon, 27 Jan 2025) EndedAt: 2025-01-27 22:51:31 -0500 (Mon, 27 Jan 2025) EllapsedTime: 130.5 seconds RetCode: 0 Status: OK PackageFile: spatialSimGP_1.0.0.tar.gz PackageFileSize: 732.5 KiB