Package: spatialSimGP Version: 1.0.0 Command: /home/biocbuild/R/R/bin/R CMD INSTALL spatialSimGP StartedAt: 2024-11-19 20:42:17 -0000 (Tue, 19 Nov 2024) EndedAt: 2024-11-19 20:42:49 -0000 (Tue, 19 Nov 2024) EllapsedTime: 32.8 seconds RetCode: 0 Status: OK